BEGIN:VCALENDAR
VERSION:2.0
PRODID:-//St. Paul&#039;s Music Conservatory - ECPv6.15.20//NONSGML v1.0//EN
CALSCALE:GREGORIAN
METHOD:PUBLISH
X-WR-CALNAME:St. Paul&#039;s Music Conservatory
X-ORIGINAL-URL:https://stpaulsmusicconservatory.org
X-WR-CALDESC:Events for St. Paul&#039;s Music Conservatory
REFRESH-INTERVAL;VALUE=DURATION:PT1H
X-Robots-Tag:noindex
X-PUBLISHED-TTL:PT1H
BEGIN:VTIMEZONE
TZID:America/Chicago
BEGIN:DAYLIGHT
TZOFFSETFROM:-0600
TZOFFSETTO:-0500
TZNAME:CDT
DTSTART:20250309T080000
END:DAYLIGHT
BEGIN:STANDARD
TZOFFSETFROM:-0500
TZOFFSETTO:-0600
TZNAME:CST
DTSTART:20251102T070000
END:STANDARD
BEGIN:DAYLIGHT
TZOFFSETFROM:-0600
TZOFFSETTO:-0500
TZNAME:CDT
DTSTART:20260308T080000
END:DAYLIGHT
BEGIN:STANDARD
TZOFFSETFROM:-0500
TZOFFSETTO:-0600
TZNAME:CST
DTSTART:20261101T070000
END:STANDARD
BEGIN:DAYLIGHT
TZOFFSETFROM:-0600
TZOFFSETTO:-0500
TZNAME:CDT
DTSTART:20270314T080000
END:DAYLIGHT
BEGIN:STANDARD
TZOFFSETFROM:-0500
TZOFFSETTO:-0600
TZNAME:CST
DTSTART:20271107T070000
END:STANDARD
END:VTIMEZONE
BEGIN:VEVENT
DTSTART;TZID=America/Chicago:20260503T160000
DTEND;TZID=America/Chicago:20260503T180000
DTSTAMP:20260423T131258
CREATED:20260113T175757Z
LAST-MODIFIED:20260409T151331Z
UID:367-1777824000-1777831200@stpaulsmusicconservatory.org
SUMMARY:St. Paul's 2025-2026 Music Series Organ Recital III
DESCRIPTION:Please join us here at St. Paul’s Lutheran Church on Sunday\, May 3\, 2026\, at 4:00pm for the final dedicatory recital for St. Paul’s recently refurbished Pipe Organ. \nKantor Paul Soulek\, St. John’s Lutheran Church\, Seward\, NE\, will showcase the organs full range of capabilities with varied works of several past and present composers. If you’re in the area\, please stop by! \nA reception will follow the recital in the Church Undercroft.\n\nThe recital will be live streamed on St. Paul’s Facebook and YouTube streaming platforms.\n\nLinks to St. Paul’s Live Stream Services:\n\nFacebook:https://www.facebook.com/StPauls.LCMS.CB\n\nYouTube:https://www.youtube.com/@st.paulslutheranchurch7373/streams\n\nLook for future recitals hosted at St. Paul’s in the upcoming 2026-2027 year.\n\n#splccb #stpauls #LCMS #pipeorgan #Sunday #recital #fellowship #reception
URL:https://stpaulsmusicconservatory.org/event/st-pauls-2025-2026-music-series-organ-recital-iii/
LOCATION:St. Paul’s Lutheran Church\, 239 Frank St.\, Council Bluffs\, IA\, 51503\, United States
ORGANIZER;CN="St. Paul's Lutheran Church":MAILTO:splccboffice@splccb.org
END:VEVENT
END:VCALENDAR